BEGIN:VCALENDAR
VERSION:2.0
PRODID:-//ChamberMaster//Event Calendar 2.0//EN
METHOD:PUBLISH
X-PUBLISHED-TTL:P3D
REFRESH-INTERVAL:P3D
CALSCALE:GREGORIAN
BEGIN:VEVENT
DTSTART:20160205T173000Z
DTEND:20160205T190000Z
X-MICROSOFT-CDO-ALLDAYEVENT:FALSE
SUMMARY:CXS | Arvest Bank Presents: The Top 5 Deliberate Growth Essentials for 2016 - 11:30
DESCRIPTION:Arvest Bank Presents: The Top 5 Deliberate Growth  Essentials for 2016\n\n\n\nDeveloping and managing growth is an essential and continuous challenge for every business. Knowing which levers to pull\, when\, and by how much are the keys to meeting your goals. You may now be seeking more rapid growth\, at a serious decision crossroads\, or managing the complications of a surge of success. \n\n\n\nWherever you are beginning from today\, Deliberate Growth  Essentials will help business owners and key leaders create and initiate an action plan map that ties growth strategies to implementation tactics and your desired outcomes. This interactive program will expand your 2016 Deliberate Growth  potential with a fresh perspective on what makes growth possible and profitable.\n\n	Learn the #1 question that must be answered to prepare you and your business for growth and productive action.\n	 Determine where to focus your decisions\, effort\, and resources using the Profit Pyramid.\n	 Understand what fuels better results through your people.\n	 Identify what your growth plan is missing right now.\n\n\n\nABOUT DEBRA KUNZ\n\n \n\nAs a Deliberate Growth  Catalyst\, Debra Kunz is sought out by businesses and individuals for her practical wisdom. She is a Certified Business Coach with 24+ years of experience that includes 14 industries. Debra's distinctive method is instrumental in prioritizing relevant Deliberate Growth  Levers for each client's situation. Her clients can then move their businesses forward and accomplish desired results. For example\, achieving record revenue\, creating smoother transitions during leadership changes\, navigating critical decision crossroads\, coping with industry shifts\, boosting revenue out of stagnation\, expanding sales opportunities\, and creating better results through their people.\n\n\n\nDuring her diverse career\, Debra has consulted and coached small and medium sized businesses as well as large corporations. As an engaging speaker and facilitator\, she has shared her knowledgeable and entertaining style with numerous private events\, a college commencement ceremony\, and television and radio interviews.\n\n\n\nDebra had the privilege of judging the local competition for the national InnovateHER 2015 and 2016 Innovating for Women Business Challenge initiative. She was selected as the kick-off speaker for the Women's Empowerment Initiative for the city of Kansas City\, Missouri. As an author\, Debra received a transformational author award for her relationship development book\, voted #1 in its category.\n\n\n\nDebra's study of business and human motivation includes a business coaching CMMS certification from the International Association of Women in Coaching\, a personal and team strengths certification from Strengthscope \, a master's degree in business from Baker University\, a bachelor's degree in marketing from Iowa State University\, and two and a half decades as the requested level-headed guide for business and life challenges.\n\n\n\nMore information at dkkgroupllc.com.
X-ALT-DESC;FMTTYPE=text/html:Arvest Bank Presents:&nbsp\;The Top 5 <span style="line-height: 20.8px\;">Deliberate Growth&trade\;</span>&nbsp\;Essentials for 2016<br />\n<br />\nDeveloping and managing growth is an&nbsp\;essential and&nbsp\;continuous&nbsp\;challenge for&nbsp\;every&nbsp\;business. Knowing which levers to pull\, when\,&nbsp\;and by how much&nbsp\;are the keys&nbsp\;to meeting your goals.&nbsp\;You may&nbsp\;now&nbsp\;be seeking more&nbsp\;rapid growth\, at a serious decision crossroads\, or managing the complications of a surge of success.&nbsp\;<br />\n<br />\nWherever you are beginning from today\, Deliberate Growth&trade\; Essentials will help business owners and key leaders create and initiate an action plan map that ties growth strategies to implementation tactics and your desired outcomes.&nbsp\;This interactive program will expand your 2016 Deliberate Growth&trade\; potential with a fresh perspective on what makes&nbsp\;growth&nbsp\;possible and&nbsp\;profitable.\n<ul>\n	<li>Learn&nbsp\;the #1 question&nbsp\;that must be answered&nbsp\;to prepare you and your business for growth and productive action.</li>\n	<li>&nbsp\;Determine where to focus your decisions\, effort\, and resources using the Profit Pyramid.</li>\n	<li>&nbsp\;Understand&nbsp\;what fuels better results through your people.</li>\n	<li>&nbsp\;Identify&nbsp\;what your growth plan is missing right now.</li>\n</ul>\n<br />\nABOUT DEBRA KUNZ<br />\n&#8203\;<br />\nAs a Deliberate Growth&trade\; Catalyst\, Debra Kunz is sought out by businesses and individuals for her practical wisdom. She is a Certified Business Coach with 24+ years of experience that includes 14 industries. Debra&rsquo\;s distinctive method is instrumental in prioritizing relevant Deliberate Growth&trade\; Levers for each client&rsquo\;s situation. Her clients can then move their businesses forward and accomplish desired results. For example\, achieving record revenue\, creating smoother transitions during leadership changes\, navigating critical decision crossroads\, coping with industry shifts\, boosting revenue out of stagnation\, expanding sales opportunities\, and creating better results through their people.<br />\n<br />\nDuring her diverse career\, Debra has consulted and coached small and medium sized businesses as well as large corporations. As an engaging speaker and facilitator\, she has shared her knowledgeable and entertaining style with numerous private events\, a college commencement ceremony\, and television and radio interviews.<br />\n<br />\nDebra had the privilege of judging the local competition for the national InnovateHER 2015 and 2016 Innovating for Women Business Challenge initiative. She was selected as the kick-off speaker for the Women&rsquo\;s Empowerment Initiative for the city of Kansas City\, Missouri. As an author\, Debra received a transformational author award for her relationship development book\, voted #1 in its category.<br />\n<br />\nDebra&rsquo\;s study of business and human motivation includes a business coaching CMMS certification from the International Association of Women in Coaching\, a personal and team strengths certification from Strengthscope&trade\;\, a master&rsquo\;s degree in business from Baker University\, a bachelor&rsquo\;s degree in marketing from Iowa State University\, and two and a half decades as the requested level-headed guide for business and life challenges.<br />\n<br />\nMore information at dkkgroupllc.com.<br />\n<br />\n&nbsp\;
LOCATION:Central Exchange South 6201 College Boulevard Overland Park\, Kansas 66211
UID:e.9235.19004
SEQUENCE:3
DTSTAMP:20260423T205237Z
URL:http://members.centralexchange.org/events/details/cxs-arvest-bank-presents-the-top-5-deliberate-growth-essentials-for-2016-11-30-02-05-2016-19004
END:VEVENT

END:VCALENDAR
