BEGIN:VCALENDAR
VERSION:2.0
PRODID:-//ChamberMaster//Event Calendar 2.0//EN
METHOD:PUBLISH
X-PUBLISHED-TTL:P3D
REFRESH-INTERVAL:P3D
CALSCALE:GREGORIAN
BEGIN:VEVENT
DTSTART:20170927T164500Z
DTEND:20170927T180000Z
X-MICROSOFT-CDO-ALLDAYEVENT:FALSE
SUMMARY:DT | 11:45 - Mary Cravets presents: How To Authentically Connect with Prospects So They Quickly Say\, "I need You"
DESCRIPTION:When you're growing a business\, you don't have a second to waste  but if you fumble through your introduction\, it takes forever to attract new clients\, because they don't understand what you do! But when you know exactly what to say\, your words are like a magnet to your ideal clients... and they quickly start to seek YOU out!\n\n  Get the complete fill-in-the-blanks formula to create an introduction that immediately gets your ideal client's attention and makes them say - "I need you!"\n\n  Learn smart strategies to leverage your introduction so you attract a steady stream of great clients everywhere: in person\, on the web\, social media\, in print and more\n\n  Go WAY beyond the 30-second introduction (there's more to running a business than just your introduction\, right?)\n\n \n\nMary is a Client Generation Expert and International Speaker who works with driven\, busy business owners around the world to help them fill their businesses with great clients without working nights and weekends. Using her methods\, the majority of her clients quickly increase their income 50-100%.\n\nMary's wealth of knowledge\, engaging style and quirky sense of humor have landed her speaking engagements for business organizations and conferences around the world including the International Coach Federation\, American Marketing Association\, and National Association of Women Business Owners.                              \n\nThanks to the freedom her proven business systems afford her\, Mary spends much of her time focused on family with her husband\, Adam\, on the beautiful central coast of California. She's also an avid roller coaster enthusiast and a kayaking volunteer for the SeaLife Stewards wildlife protection program in Morro Bay.
X-ALT-DESC;FMTTYPE=text/html:<p align="LEFT"><font face="Helvetica" size="2"><font face="Helvetica" size="2"><strong>When you&rsquo\;re growing a business\, you don&rsquo\;t have a second to waste&hellip\;</strong> but if you fumble through your introduction\, it </font></font><font face="Helvetica" size="2"><font face="Helvetica" size="2">takes forever to attract new clients\, because they don&#39\;t understand what you do! But when you know exactly what to say\, </font></font><font face="Helvetica" size="2"><font face="Helvetica" size="2">your words are like a magnet to your ideal clients... and they quickly start to seek YOU out!</font></font></p>\n\n<p align="LEFT"><font face="Helvetica" size="2"><font face="Helvetica" size="2">&bull\; Get the complete fill-in-the-blanks formula to create an introduction that immediately gets your ideal client&#39\;s attention </font></font><font face="Helvetica" size="2"><font face="Helvetica" size="2">and makes them say - &quot\;I need you!&quot\;</font></font></p>\n\n<p align="LEFT"><font face="Helvetica" size="2"><font face="Helvetica" size="2">&bull\; Learn smart strategies to leverage your introduction so you attract a steady stream of great clients everywhere: in </font></font><font face="Helvetica" size="2"><font face="Helvetica" size="2">person\, on the web\, social media\, in print and more</font></font></p>\n\n<p><font face="Helvetica" size="2"><font face="Helvetica" size="2">&bull\; Go WAY beyond the 30-second introduction (there&#39\;s more to running a business than just your introduction\, right?)</font></font><br />\n&nbsp\;</p>\n\n<p style="margin: 0in 0in 10pt\;"><em><span style="font-size: 12px\;"><span style="color: black\; font-family: &quot\;Verdana&quot\;\,&quot\;sans-serif&quot\;\; mso-fareast-font-family: &quot\;Times New Roman&quot\;\;">Mary is a Client Generation Expert and International Speaker who works with driven\, busy business owners around the world to help them fill their businesses with great clients without working nights and weekends. Using her methods\, the majority of her clients quickly increase their income 50-100%.</span></span></em></p>\n\n<p style="margin: 0in 0in 10pt\;"><em><span style="font-size: 12px\;"><span style="color: black\; font-family: &quot\;Verdana&quot\;\,&quot\;sans-serif&quot\;\; mso-fareast-font-family: &quot\;Times New Roman&quot\;\;">Mary&rsquo\;s wealth of knowledge\, engaging style and quirky sense of humor have landed her speaking engagements for business organizations and conferences around the world including the International Coach Federation\, American Marketing Association\, and National Association of Women Business Owners.</span></span></em><em><span style="font-size: 12px\;"><span style="color: black\; font-family: &quot\;Verdana&quot\;\,&quot\;sans-serif&quot\;\; mso-fareast-font-family: &quot\;Times New Roman&quot\;\;">&nbsp\;&nbsp\;&nbsp\;&nbsp\;&nbsp\;&nbsp\;&nbsp\;&nbsp\;&nbsp\;&nbsp\;&nbsp\;&nbsp\;&nbsp\;&nbsp\;&nbsp\;&nbsp\;&nbsp\;&nbsp\;&nbsp\;&nbsp\;&nbsp\;&nbsp\;&nbsp\;&nbsp\;&nbsp\;&nbsp\;&nbsp\;&nbsp\;&nbsp\; </span></span></em></p>\n\n<p style="margin: 0in 0in 10pt\;"><em><span style="font-size: 12px\;"><span style="color: black\; font-family: &quot\;Verdana&quot\;\,&quot\;sans-serif&quot\;\; mso-fareast-font-family: &quot\;Times New Roman&quot\;\;">Thanks to the freedom her proven business systems afford her\, Mary spends much of her time focused on family with her husband\, Adam\, on the beautiful central coast of California. She&rsquo\;s also an avid roller coaster enthusiast and a kayaking volunteer for the SeaLife Stewards wildlife protection program in Morro Bay.</span></span></em></p>\n\n<p style="margin: 0in 0in 10pt\;"><span style="color: black\; line-height: 115%\; font-family: &quot\;Verdana&quot\;\,&quot\;sans-serif&quot\;\; font-size: 10pt\; mso-fareast-font-family: &quot\;Times New Roman&quot\;\;">&nbsp\;</span></p>\n<br />\n<br />\n<br />\n<br />\n<br />\n<br />\n&nbsp\;
LOCATION:1020 Central Suite 100 Kansas City\, MO 64105
UID:e.9235.20727
SEQUENCE:3
DTSTAMP:20260422T015625Z
URL:http://members.centralexchange.org/events/details/dt-11-45-mary-cravets-presents-how-to-authentically-connect-with-prospects-so-they-quickly-say-i-need-you-20727
END:VEVENT

END:VCALENDAR
