BEGIN:VCALENDAR
VERSION:2.0
PRODID:-//ChamberMaster//Event Calendar 2.0//EN
METHOD:PUBLISH
X-PUBLISHED-TTL:P3D
REFRESH-INTERVAL:P3D
CALSCALE:GREGORIAN
BEGIN:VEVENT
DTSTART:20151209T174500Z
DTEND:20151209T190000Z
X-MICROSOFT-CDO-ALLDAYEVENT:FALSE
SUMMARY:DT | Teamwork! 4 Keys to Unlocking Effective Collaboration
DESCRIPTION:Teams can be productive\, collaborative and innovative\, or they can be frustrating\, full of conflict and competition\, and inefficient. They might have one or two who stir the pot for everyone else\, or perhaps the group insists on a wait and see attitude instead of jumping in and solving a problem. In this interactive program\, Debra Kunz shares four vital dynamics that are critical for building your team\, engaging remote members\, developing trust\, and improving productivity.\n\n\n\nSought out for her practical wisdom\, Debra Kunz is a catalyst for Deliberate Growth  for businesses and individuals. As a dynamic facilitator\, consultant\, author and speaker\, her distinctive approach to "Unlocking the Secrets of Deliberate Growth " is instrumental for her clients' to move the company\, and themselves\, forward.\n\n \n\nIn her 23+ year career\, Debra has been invited to share her expertise with various industries\, sizes of organizations\, and audiences ranging from a college commencement ceremony to television and radio interviews\, and received a transformational author award for her relationship development book\, voted #1 in its category. She was selected as the kick-off speaker for the Women's Empowerment Initiative for the city of Kansas City\, Missouri\, and had the privilege of judging the local competition for the national InnovateHER 2015 Innovating for Women Business Challenge initiative.\n\n \n\nDebra's study of human motivation includes a certification in building personal and team strengths\, a bachelor's degree in marketing and a master's degree in business\, and two and a half decades as the requested level-headed guide for business and life complications. More information at dkkgroupllc.com.
X-ALT-DESC;FMTTYPE=text/html:Teams can be productive\, collaborative and innovative\, or they can be frustrating\, full of conflict and competition\, and inefficient. They might have one or two who stir the pot for everyone else\, or perhaps the group insists on a wait and see attitude instead of jumping in and solving a problem. In this interactive program\, Debra Kunz shares four vital dynamics that are critical for building your team\, engaging remote members\, developing trust\, and improving productivity.<br />\n<br />\nSought out for her practical wisdom\, Debra Kunz is a catalyst for Deliberate Growth&trade\; for businesses and individuals. As a dynamic facilitator\, consultant\, author and speaker\, her distinctive approach to &ldquo\;Unlocking the Secrets of Deliberate Growth&trade\;&rdquo\; is instrumental for her clients&rsquo\; to move the company\, and themselves\, forward.<br />\n&nbsp\;<br />\nIn her 23+ year career\, Debra has been invited to share her expertise with various industries\, sizes of organizations\, and audiences ranging from a college commencement ceremony to television and radio interviews\, and received a transformational author award for her relationship development book\, voted #1 in its category. She was selected as the kick-off speaker for the Women&rsquo\;s Empowerment Initiative for the city of Kansas City\, Missouri\, and had the privilege of judging the local competition for the national InnovateHER 2015 Innovating for Women Business Challenge initiative.<br />\n&nbsp\;<br />\nDebra&rsquo\;s study of human motivation includes a certification in building personal and team strengths\, a bachelor&rsquo\;s degree in marketing and a master&rsquo\;s degree in business\, and two and a half decades as the requested level-headed guide for business and life complications. More information at dkkgroupllc.com.<br />\n&nbsp\;
LOCATION:Central Exchange 1020 Central Kansas City\, Missouri 64105
UID:e.9235.17864
SEQUENCE:3
DTSTAMP:20260425T114630Z
URL:http://members.centralexchange.org/events/details/dt-teamwork-4-keys-to-unlocking-effective-collaboration-12-09-2015-17864
END:VEVENT

END:VCALENDAR
