BEGIN:VCALENDAR
VERSION:2.0
PRODID:-//ChamberMaster//Event Calendar 2.0//EN
METHOD:PUBLISH
X-PUBLISHED-TTL:P3D
REFRESH-INTERVAL:P3D
CALSCALE:GREGORIAN
BEGIN:VEVENT
DTSTART:20221214T223000Z
DTEND:20221215T003000Z
X-MICROSOFT-CDO-ALLDAYEVENT:FALSE
SUMMARY:IN-PERSON | Central Exchange's Member + Corporate Partner Holiday Party
DESCRIPTION:The air is getting colder\, the holidays are near\,\n\nit's time for a celebration with those we hold so dear!\n\n\n\nLet the warmth of friendship take the chill from the air\,\n\nand the spirit of the season make winter easier to bear.\n\n\n\nJoin us on December 14 from 4:30 to 6:30 pm\n\nto spread some holiday cheer as we celebrate with\n\nyummy food\, comforting beverages\, and great friends\, like you!\n\n \n\nWith sincere gratitude to our members and partners of your support of Central Exchange\, we invite you to join us to celebrate the holidays!  Reconnect with old friends and make new ones as we gather for drinks and appetizers and look forward to a new and promising year.\n\n\n\nWe are excited to be celebrating in-person on the entire 4th floor of the UMKC Bloch Executive Education building\, the new(er) home of Central Exchange.  Come enjoy heavy appetizers\, an adult beverage or two\, and make connections.  Please feel free to come when you can and leave when you must!  We hope to see you all there!
X-ALT-DESC;FMTTYPE=text/html:<p style="text-align: center\;"><br />\n<br />\n<span style="font-size:20px\;"><span style="font-family:arial\;"><span style="color:#DAA520\;">The air is getting colder\, the holidays are near\,<br />\nit&#39\;s time for a celebration with those we hold so dear!</span></span></span><br />\n<br />\n<span style="color:#800000\;"><span style="font-size:20px\;"><span style="font-family:arial\;">Let the warmth of friendship take the chill from the air\,</span></span><br />\n<span style="font-size:20px\;"><span style="font-family:arial\;">and the spirit of the season make winter easier to bear.</span></span></span><br />\n<br />\n<span style="color:#008080\;"><span style="font-size:20px\;"><span style="font-family:arial\;">Join us on December 14 from 4:30 to 6:30 pm<br />\nto spread some holiday cheer as we celebrate with<br />\nyummy food\, comforting beverages\, and great friends\, like you!</span></span></span><br />\n&nbsp\;</p>\n\n<p><span style="font-size:16px\;"><span style="font-family:arial\;">With sincere gratitude to our members and partners of your support of Central Exchange\, we invite you to join us to celebrate the holidays!&nbsp\; Reconnect with old friends and make new ones as we gather for drinks and appetizers and look forward to a new and promising year.<br />\n<br />\nWe are excited to be celebrating in-person on the entire 4th floor of the UMKC Bloch Executive Education building\, the new(er) home of Central Exchange.&nbsp\; Come enjoy heavy appetizers\, an adult beverage or two\, and make connections.&nbsp\; Please feel free to come when you can and leave when you must!&nbsp\; We hope to see you all there!</span></span></p>\n
LOCATION:IN-PERSON AT UMKC BLOCH 4TH FLOOR 5108 CHERRY STREET KANSAS CITY\, MO 64110 REGISTER BY DECEMBER 7TH FOR YOUR FREE PARKING PASS!
UID:e.9235.24986
SEQUENCE:3
DTSTAMP:20260425T194814Z
URL:http://members.centralexchange.org/events/details/in-person-central-exchange-s-member-corporate-partner-holiday-party-24986
END:VEVENT

END:VCALENDAR
