BEGIN:VCALENDAR
VERSION:2.0
PRODID:-//ChamberMaster//Event Calendar 2.0//EN
METHOD:PUBLISH
X-PUBLISHED-TTL:P3D
REFRESH-INTERVAL:P3D
CALSCALE:GREGORIAN
BEGIN:VEVENT
DTSTART:20230127T173000Z
DTEND:20230127T190000Z
X-MICROSOFT-CDO-ALLDAYEVENT:FALSE
SUMMARY:IN-PERSON CIRCLE | January Friday Fun Lunch | New year! New you!
DESCRIPTION:Friday Fun Lunch is a group of assorted\, changeable (but not interchangeable) women (usually) who just want to take a break\, meet a few people they don't know\, and just see what happens\, because after all\, you always need a fun lunch on a Friday. Anyone who joins us is by definition fun\, clever\, smart\, and ready to have a good time. You can expect no agenda - (though it doesn't mean we're topic-less!) and a great lunch (always). Take time for yourself and join us for the best Friday of your month.\n\n\n\nNew year! New you!  Join us at this month's Friday Fun Lunch on January 27th to welcome in the new year!  Some people make resolutions\, many set goals and others pursue new opportunities. Inquiring minds want to know--What's going to be new for you in 2023? We'd love to have you come share what you have planned that's new and exciting for this year. It will be fun to see how we can all help support each other in the year ahead!\n\n\n\nWe look forward to gathering the 4th Friday every month together\, breaking bread together and sharing together!
X-ALT-DESC;FMTTYPE=text/html:<p><br />\n<span style="font-size:16px\;"><span style="font-family:arial\;">Friday Fun Lunch is a group of assorted\, changeable (but not interchangeable) women (usually) who just want to take a break\, meet a few people they don&#39\;t know\, and just see what happens\, because after all\, you always need a fun lunch on a Friday. Anyone who joins us is by definition fun\, clever\, smart\, and ready to have a good time. You can expect no agenda -&nbsp\;(though it doesn&#39\;t mean we&#39\;re topic-less!)&nbsp\;and a great lunch (always). Take time for yourself and join us for the best Friday of your month.<br />\n<br />\n<span style="caret-color: rgb(0\, 0\, 0)\; color: rgb(0\, 0\, 0)\; font-style: normal\; font-variant-caps: normal\; font-weight: 400\; letter-spacing: normal\; text-align: start\; text-indent: 0px\; text-transform: none\; white-space: normal\; word-spacing: 0px\; -moz-text-size-adjust: auto\; -webkit-text-stroke-width: 0px\; text-decoration: none\; display: inline !important\; float: none\;"><strong>New year! New you! </strong>&nbsp\;<strong>Join us at this month&#39\;s Friday Fun Lunch on January 27th to welcome in the new year! </strong>&nbsp\;Some people make resolutions\, many set goals and others pursue new opportunities. Inquiring minds want to know--What&rsquo\;s going to be new for you in 2023? We&rsquo\;d love to have you come share what you have planned that&rsquo\;s new and exciting for this year. It will be fun to see how we can all help support each other in the year ahead!</span><br />\n<br />\nWe look forward to gathering the 4th Friday every month together\, breaking bread together and sharing together!</span></span></p>\n
LOCATION:In-Person at Training Umbrella 10551 Barkley Street\, Overland Park\, KS 66212 If you have any dietary restrictions\, please contact Carrie Taylor with a minimum notice of 48 hours before the program.
UID:e.9235.25165
SEQUENCE:3
DTSTAMP:20260424T130205Z
URL:http://members.centralexchange.org/events/details/in-person-circle-january-friday-fun-lunch-new-year-new-you-25165
END:VEVENT

END:VCALENDAR
