BEGIN:VCALENDAR
VERSION:2.0
PRODID:-//ChamberMaster//Event Calendar 2.0//EN
METHOD:PUBLISH
X-PUBLISHED-TTL:P3D
REFRESH-INTERVAL:P3D
CALSCALE:GREGORIAN
BEGIN:VEVENT
DTSTART:20201006T130000Z
DTEND:20201006T143000Z
X-MICROSOFT-CDO-ALLDAYEVENT:FALSE
SUMMARY:VIRTUAL CIRCLE | Mastermind Collective
DESCRIPTION:Gather with other Central Exchange members for inspiration and connection in this unique mastermind opportunity. Together\, we will brainstorm one specific challenge each month. Come to share and to learn. You'll walk away with strategies\, action steps   and the option of creating an accountability connection if you desire. Join us for this fun and lively conversation that will inspire positive change in your career and life!\n\nFacilitated by Michelle Poston and Kimberly Beer\n\n\n\nOctober 2020: Creating Space for Creativity\n\n \n\nDo you find yourself wanting to be more creative in your daily life\, but feel like you don't have the time or permission to explore? Join us to brainstorm ways we can all invite creativity into our lives at work and home.\n\n \n\nNovember: Holiday Happiness without the "Stressiness"\n\n \n\nHolidays are the best! (or the worst!) Join us this month to discuss how to remove the stress and add in the happiness during the holiday season   even with the added COVID-19 challenges for 2020. \n\n \n\nDecember: Counting Your 2020 Blessings\n\n \n\n2020 has offered us many (many) challenges. This month\, we gather for some inspiration and share the blessings this past year has offered each of us. If you've had an especially trying year\, this is a great opportunity to reflect and discover the silver lining of 2020 before we step into 2021.
X-ALT-DESC;FMTTYPE=text/html:<div style="margin-top:0in\;margin-right:0in\;margin-bottom:0in\;background:white\;"><span style="font-size:18px\;">Gather with other Central Exchange members for inspiration and connection in this unique mastermind opportunity. Together\, we will brainstorm one specific challenge each month. Come to share&nbsp\;<em>and</em>&nbsp\;to learn. You&rsquo\;ll walk away with strategies\, action steps &mdash\; and the option of creating an accountability connection if you desire. Join us for this fun and lively conversation that will inspire positive change in your career and life!<br />\n<strong><em>Facilitated by Michelle Poston and Kimberly Beer</em></strong></span><br />\n<br />\n<span style="font-size:18px\;"><strong>October 2020: Creating Space for Creativity</strong><br />\n&nbsp\;<br />\nDo you find yourself wanting to be more creative in your daily life\, but feel like you don&rsquo\;t have the time or permission to explore? Join us to brainstorm ways we can all invite creativity into our lives at work and home.<br />\n&nbsp\;<br />\n<strong>November: Holiday Happiness without the &ldquo\;Stressiness&rdquo\;</strong><br />\n&nbsp\;<br />\nHolidays are the best! (or the worst!) Join us this month to discuss how to remove the stress and add in the happiness during the holiday season &mdash\; even with the added COVID-19 challenges for 2020.&nbsp\;<br />\n&nbsp\;<br />\n<strong>December: Counting Your 2020 Blessings</strong><br />\n&nbsp\;<br />\n2020 has offered us many (many) challenges. This month\, we gather for some inspiration and share the blessings this past year has offered each of us. If you&rsquo\;ve had an especially trying year\, this is a great opportunity to reflect and discover the silver lining of 2020 before we step into 2021.</span><br />\n&nbsp\;</div>\n
LOCATION:Virtual Exchange Circle - access this program remotely from your computer\, tablet\, or smartphone + dial-in available
UID:e.9235.23380
SEQUENCE:3
DTSTAMP:20260419T204906Z
URL:http://members.centralexchange.org/events/details/virtual-circle-mastermind-collective-10-06-2020-23380
END:VEVENT

END:VCALENDAR
