BEGIN:VCALENDAR
VERSION:2.0
PRODID:-//ChamberMaster//Event Calendar 2.0//EN
METHOD:PUBLISH
X-PUBLISHED-TTL:P3D
REFRESH-INTERVAL:P3D
CALSCALE:GREGORIAN
BEGIN:VEVENT
DTSTART:20190730T170000Z
DTEND:20190730T180000Z
X-MICROSOFT-CDO-ALLDAYEVENT:FALSE
SUMMARY:virtualCX | Introducing YOU! Creating a Powerful\, Personal Brand with SkillPath
DESCRIPTION:This is a virtualCX Program that can be accessed remotely from your desk. You will receive the event passcode in your confirmation email when you register.\n\n \n\n\nWe've all heard the buzz around "personal brand\," but what is it really ... and how exactly do you go about cultivating one of your own?\n\n\n\nIn Creating a Powerful\, Personal Brand\, we'll cover the basics of personal brand and image. You'll discover the essentials of how to build your own and why it's so important. \n\n\n\nOrganizations are forever searching for leaders who stand out from the sea of others. What is it about you that helps you outshine the rest? What would you like to enhance or change going forward? These are the questions to consider as you think about your own personal brand. \n\n\n\nJoin us and begin this important journey of self-awareness. Learn how to balance the unique set of competencies\, skills and characteristics that set you apart from your peers. You'll also explore ways to expand your influence at work and in the community through your expertise\, experience and accomplishments.\n\n\n\nSkillPath is a leading international provider of professional development seminars\, conferences\, onsite training programs and e-learning opportunities for business professionals. SkillPath provides customized onsite training programs\, content and curriculum for thousands of companies\, including Fortune 500 firms\, government agencies\, medical centers and universities. SkillPath was launched in 1989 in Mission\, Kansas and is proud to have helped the careers of more than 10 million professionals worldwide.
X-ALT-DESC;FMTTYPE=text/html:<strong><span style="font-size:16px\;">This is a virtualCX Program that can be accessed remotely from your desk. You will receive the event passcode in your confirmation email when you register.</span></strong><br />\n&nbsp\;\n<hr /><br />\n<span style="font-size:16px\;">We&rsquo\;ve all heard the buzz around &ldquo\;personal brand\,&rdquo\; but what is it really ... and how exactly do you go about cultivating one of your own?<br />\n<br />\nIn <strong>Creating a Powerful\, Personal Brand</strong>\, we&rsquo\;ll cover the basics of personal brand and image. You&rsquo\;ll discover the essentials of how to build your own&#8213\;and why it&rsquo\;s so important.&nbsp\;<br />\n<br />\nOrganizations are forever searching for leaders who stand out from the sea of others. What is it about you that helps you outshine the rest? What would you like to enhance or change going forward? These are the questions to consider as you think about your own personal brand.&nbsp\;<br />\n<br />\nJoin us and begin this important journey of self-awareness. Learn how to balance the unique set of competencies\, skills and characteristics that set you apart from your peers. You&rsquo\;ll also explore ways to expand your influence at work and in the community through your expertise\, experience and accomplishments.</span>\n\n<hr /><br />\n<span style="font-size:16px\;"><strong>SkillPath</strong> is a leading international provider of professional development seminars\, conferences\, onsite training programs and e-learning opportunities for business professionals. SkillPath provides customized onsite training programs\, content and curriculum for thousands of companies\, including Fortune 500 firms\, government agencies\, medical centers and universities. SkillPath was launched in 1989 in Mission\, Kansas and is proud to have helped the careers of more than 10 million professionals worldwide.</span>
LOCATION:Virtual! Access this program remotely from your computer\, tablet or smartphone.
UID:e.9235.22849
SEQUENCE:3
DTSTAMP:20260423T135107Z
URL:http://members.centralexchange.org/events/details/virtualcx-introducing-you-creating-a-powerful-personal-brand-with-skillpath-22849
END:VEVENT

END:VCALENDAR
