BEGIN:VCALENDAR
VERSION:2.0
PRODID:-//ChamberMaster//Event Calendar 2.0//EN
METHOD:PUBLISH
X-PUBLISHED-TTL:P3D
REFRESH-INTERVAL:P3D
CALSCALE:GREGORIAN
BEGIN:VEVENT
DTSTART;VALUE=DATE:20191224
DTEND;VALUE=DATE:20200102
TRANSP:TRANSPARENT
X-MICROSOFT-CDO-ALLDAYEVENT:TRUE
SUMMARY:Central Exchange Closed for Holiday
DESCRIPTION:Happy Holidays!\n\n\n\nOur office is closed from December 24\, 2019 - January 1\, 2020.\n\n\n\nWe're enjoying time with family and friends\, and hope you are too!
X-ALT-DESC;FMTTYPE=text/html:<br />\n<span style="font-size:16px\;">Happy Holidays!<br />\n<br />\nOur office is closed from December 24\, 2019 - January 1\, 2020.</span><br />\n<br />\n<span style="font-size:16px\;">We&#39\;re enjoying time with family and friends\, and hope you are too!</span>
LOCATION:
UID:e.9235.22867
SEQUENCE:3
DTSTAMP:20260421T152205Z
URL:https://members.centralexchange.org/events/details/central-exchange-closed-for-holiday-22867
END:VEVENT

END:VCALENDAR
