BEGIN:VCALENDAR
VERSION:2.0
PRODID:-//ChamberMaster//Event Calendar 2.0//EN
METHOD:PUBLISH
X-PUBLISHED-TTL:P3D
REFRESH-INTERVAL:P3D
CALSCALE:GREGORIAN
BEGIN:VEVENT
DTSTART;VALUE=DATE:20191128
DTEND;VALUE=DATE:20191202
TRANSP:TRANSPARENT
X-MICROSOFT-CDO-ALLDAYEVENT:TRUE
SUMMARY:Central Exchange Office Closed for the Holiday
DESCRIPTION:Central Exchange office closed.\n\n\n\nOur staff is celebrating the holiday with friends and family. We hope you are too!
X-ALT-DESC;FMTTYPE=text/html:<span style="font-size:16px\;"><strong>Central Exchange office closed.</strong><br />\n<br />\nOur staff is celebrating the holiday with friends and family. We hope you are too!</span><br />\n<br />\n&nbsp\;
LOCATION:
UID:e.9235.22955
SEQUENCE:3
DTSTAMP:20260421T152600Z
URL:https://members.centralexchange.org/events/details/central-exchange-office-closed-for-the-holiday-22955
END:VEVENT

END:VCALENDAR
