BEGIN:VCALENDAR
VERSION:2.0
PRODID:-//ChamberMaster//Event Calendar 2.0//EN
METHOD:PUBLISH
X-PUBLISHED-TTL:P3D
REFRESH-INTERVAL:P3D
CALSCALE:GREGORIAN
BEGIN:VEVENT
DTSTART:20191220T140000Z
DTEND:20191220T153000Z
X-MICROSOFT-CDO-ALLDAYEVENT:FALSE
SUMMARY:CXS | Referral and Resource Breakfast
DESCRIPTION:Each time this group gathers we intentionally look for ways to help one another. This is your opportunity to harness the power of great connections.\n\nCome ready to be a resource for others\, find the help you need (personally and professionally)\, deepen existing relationships\, and of course make new ones.
X-ALT-DESC;FMTTYPE=text/html:<span style="font-size:16px\;"><b><font color="#333333">Each time this group gathers we intentionally look for ways to help one another. This is your opportunity to harness the power of great connections.</font></b><br style="text-align: left\; text-transform: none\; text-indent: 0px\; letter-spacing: normal\; font-size: 16px\; font-style: normal\; font-variant: normal\; text-decoration: none\; word-spacing: 0px\; white-space: normal\; orphans: 2\; -webkit-text-stroke-width: 0px\; background-color: transparent\;" />\n<span style="text-align: left\; color: rgb(51\, 51\, 51)\; text-transform: none\; text-indent: 0px\; letter-spacing: normal\; font-style: normal\; font-variant: normal\; font-weight: 400\; text-decoration: none\; word-spacing: 0px\; display: inline !important\; white-space: normal\; orphans: 2\; float: none\; -webkit-text-stroke-width: 0px\; background-color: rgb(255\, 255\, 255)\;">Come ready to be a resource for others\, find the help you need (personally and professionally)\, deepen existing relationships\, and of course make new ones.</span></span>
LOCATION:Training Umbrella 10551 Barkley suite 102 Overland Park\, KS 66212
UID:e.9235.23100
SEQUENCE:3
DTSTAMP:20260421T152605Z
URL:https://members.centralexchange.org/events/details/cxs-referral-and-resource-breakfast-23100
END:VEVENT

END:VCALENDAR
