BEGIN:VCALENDAR
VERSION:2.0
PRODID:-//ChamberMaster//Event Calendar 2.0//EN
METHOD:PUBLISH
X-PUBLISHED-TTL:P3D
REFRESH-INTERVAL:P3D
CALSCALE:GREGORIAN
BEGIN:VEVENT
DTSTART:20191204T174500Z
DTEND:20191204T190000Z
X-MICROSOFT-CDO-ALLDAYEVENT:FALSE
SUMMARY:DT | Making Decisions Strategically & Critically with SkillPath
DESCRIPTION:According to Psychology Today\, the average person makes about 35\,000 decisions each day. Although no decision is perfect\, there are ways to minimize undesirable results through critical and strategic thinking. Join us in partnership with SkillPath as we learn about the decision making process\, and leave with the tools necessary to make positive and well-rounded choices in our everyday lives. \n\n \n\n\nSkillPath is a leading international provider of professional development seminars\, conferences\, onsite training programs and e-learning opportunities for business professionals. SkillPath provides customized onsite training programs\, content and curriculum for thousands of companies\, including Fortune 500 firms\, government agencies\, medical centers and universities. SkillPath was launched in 1989 in Mission\, Kansas and is proud to have helped the careers of more than 10 million professionals worldwide.
X-ALT-DESC;FMTTYPE=text/html:<br />\n<strong style="font-size: 16px\;">According to <a href="https://www.psychologytoday.com/us/blog/stretching-theory/201809/how-many-decisions-do-we-make-each-day">Psychology Today</a>\, the average person makes about 35\,000 decisions each day. Although no decision is perfect\, there are ways to minimize undesirable results through critical and strategic thinking. Join us in partnership with SkillPath as we learn about the decision making process\, and leave with the tools necessary to make positive and well-rounded choices in our everyday lives.&nbsp\;</strong><br />\n&nbsp\;\n<hr /><br />\n<span style="font-size:16px\;"><strong>SkillPath</strong> is a leading international provider of professional development seminars\, conferences\, onsite training programs and e-learning opportunities for business professionals. SkillPath provides customized onsite training programs\, content and curriculum for thousands of companies\, including Fortune 500 firms\, government agencies\, medical centers and universities. SkillPath was launched in 1989 in Mission\, Kansas and is proud to have helped the careers of more than 10 million professionals worldwide.</span>
LOCATION:Central Exchange Downtown 1020 Central Street STE 100 Kansas City\, MO 64105 Parking Map Can't join us for lunch? Join us virtually!
UID:e.9235.22864
SEQUENCE:3
DTSTAMP:20260421T152247Z
URL:https://members.centralexchange.org/events/details/dt-making-decisions-strategically-critically-with-skillpath-22864
END:VEVENT

END:VCALENDAR
