BEGIN:VCALENDAR
VERSION:2.0
PRODID:-//ChamberMaster//Event Calendar 2.0//EN
METHOD:PUBLISH
X-PUBLISHED-TTL:P3D
REFRESH-INTERVAL:P3D
CALSCALE:GREGORIAN
BEGIN:VEVENT
DTSTART:20191211T174500Z
DTEND:20191211T190000Z
X-MICROSOFT-CDO-ALLDAYEVENT:FALSE
SUMMARY:DT | Quarterly Fishbowl Conversations
DESCRIPTION:Description\n\n\n\nHow do we create a conversation that's organic and real? \n\n\n\nWith Fishbowl Conversations\, CX members will have the opportunity to connect with me and have a conversation that comes without an agenda or any preconceived notion. We'll never know what we are going to discuss until we get together and we draw a topic out of the fishbowl. \n\n \nThis authentic\, transparent dialogue is what conversation is all about. Participants will have the chance to write down their thoughts\, questions or ideas and drop them in the fishbowl to discuss with me and our group of CX members. It provides space for transformative\, face-to-face connection and the potential for positive impact on the group involved and all those they influence.\n \n\nWhen we engage in genuine\, unrestrained conversation\, we will open doors into new areas of growth and togetherness\, create a stronger sense of connection and truly allow ourselves to celebrate and tap into our authenticity.
X-ALT-DESC;FMTTYPE=text/html:<p dir="ltr" style="line-height:1.38\;margin-top:0pt\;margin-bottom:0pt\;"><strong><span style="font-size:24px\;">Description</span></strong><br />\n<br />\n<span style="font-size:14px\;"><span id="docs-internal-guid-40798fe7-7fff-684c-05d2-c37fb7f510a6"><span style="font-variant-numeric: normal\; font-variant-east-asian: normal\; vertical-align: baseline\; white-space: pre-wrap\;"><strong>How do we create a conversation that&rsquo\;s organic and real? </strong><br />\n<br />\nWith Fishbowl Conversations\, CX members will have the opportunity to connect with me and have a conversation that comes without an agenda or any preconceived notion. We&rsquo\;ll never know what we are going to discuss until we get together and we draw a topic out of the fishbowl. </span></span></span></p>\n\n<hr />&nbsp\;\n<p dir="ltr" style="line-height:1.38\;margin-top:0pt\;margin-bottom:0pt\;"><span style="font-size:14px\;"><span id="docs-internal-guid-40798fe7-7fff-684c-05d2-c37fb7f510a6"><span style="font-variant-numeric: normal\; font-variant-east-asian: normal\; vertical-align: baseline\; white-space: pre-wrap\;">This authentic\, transparent dialogue is what conversation is all about. Participants will have the chance to write down their thoughts\, questions or ideas and drop them in the fishbowl to discuss with me and our group of CX members. It provides space for transformative\, face-to-face connection and the potential for positive impact on the group involved and all those they influence.</span></span></span></p>\n&nbsp\;\n\n<p dir="ltr" style="line-height:1.38\;margin-top:0pt\;margin-bottom:0pt\;"><span style="font-size:14px\;"><span id="docs-internal-guid-40798fe7-7fff-684c-05d2-c37fb7f510a6"><span style="font-variant-numeric: normal\; font-variant-east-asian: normal\; vertical-align: baseline\; white-space: pre-wrap\;">When we engage in genuine\, unrestrained conversation\, we will open doors into new areas of growth and togetherness\, create a stronger sense of connection and truly allow ourselves to celebrate and tap into our authenticity. </span></span></span></p>\n\n<div>&nbsp\;</div>\n
LOCATION:Central Exchange Downtown 1020 Central Street STE 100 Kansas City\, MO 64105
UID:e.9235.22620
SEQUENCE:3
DTSTAMP:20260421T134234Z
URL:https://members.centralexchange.org/events/details/dt-quarterly-fishbowl-conversations-22620
END:VEVENT

END:VCALENDAR
