BEGIN:VCALENDAR
VERSION:2.0
PRODID:-//ChamberMaster//Event Calendar 2.0//EN
METHOD:PUBLISH
X-PUBLISHED-TTL:P3D
REFRESH-INTERVAL:P3D
CALSCALE:GREGORIAN
BEGIN:VEVENT
DTSTART:20190801T164500Z
DTEND:20190801T180000Z
X-MICROSOFT-CDO-ALLDAYEVENT:FALSE
SUMMARY:DT | Sprint Presents: Women to Watch with Laura Alvarez
DESCRIPTION:In this newest series sponsored by Sprint\, dive into the journeys of up-and-coming women leaders making a difference in Greater Kansas City.\n\n \n\n\nSpeaker Bio: \n\n\n\nLaura Isabel Alvarez is known for her spirited energy and compelling ideas. Currently Laura is an Education Consultant and Entrepreneur. She works with organizations like Kauffman\, Teach Kansas City\, and recruits for various charter schools within the metro. \n\n\n\nFormerly Laura experienced corporate\, nonprofit and labor industries. Laura has a Master of Science in organizational leadership (MSOL) with an emphasis in change management from Quinnipiac University. She earned a bachelor's degree in Political Science at the University of Houston. \n\n\n\nLaura serves as Literacy KC's Board Secretary\, Chairs the Greater Kansas City Women's Political Caucus Program Committee\, completed Kauffman's Education Advocacy Program and is a supporter of the Latinx Education Collaborative. Laura also co-chairs fundraisers with her fianc \, Edgar Palacios. \n\n\n\nAs a bilingual leader\, Laura was trained in board governance and has served as president and executive member of organizations such as: NSHMBA\, Young Latino Professionals\, Sister Cities of Kansas City. Laura was humbled to have been selected to be a Rockstar with Band of Angels in 2019 and Woman of the Year candidate for the Leukemia & Lymphoma Society in early 2013.\n\n\n\nInterested in membership? More info here
X-ALT-DESC;FMTTYPE=text/html:<br />\n<br font-size:="" style="color: rgb(51\, 51\, 51)\; font-family: sans-serif\, Arial\, Verdana\, " trebuchet="" />\n<span style="font-size:16px\;"><span font-size:="" style="color: rgb(51\, 51\, 51)\; font-family: sans-serif\, Arial\, Verdana\, " trebuchet=""><strong font-size:="" trebuchet="">In this newest series sponsored by Sprint\, dive into the journeys of up-and-coming women leaders making a difference in Greater Kansas City.</strong></span></span><br />\n&nbsp\;\n<hr /><br />\n<span style="font-size:16px\;"><strong>Speaker Bio:&nbsp\;</strong><br />\n<br />\nLaura Isabel Alvarez is known for her spirited energy and compelling ideas. Currently Laura is an Education Consultant and Entrepreneur. She works with organizations like Kauffman\, Teach Kansas City\, and recruits for various charter schools within the metro.&nbsp\;<br />\n<br />\nFormerly Laura experienced corporate\, nonprofit and labor industries. Laura has a Master of Science in organizational leadership (MSOL) with an emphasis in change management from Quinnipiac University. She earned a bachelor&rsquo\;s degree in Political Science at the University of Houston.&nbsp\;<br />\n<br />\nLaura serves as Literacy KC&rsquo\;s Board Secretary\, Chairs the Greater Kansas City Women&rsquo\;s Political Caucus Program Committee\, completed Kauffman&rsquo\;s Education Advocacy Program and is a supporter of the Latinx Education Collaborative. Laura also co-chairs fundraisers with her fianc&eacute\;\, Edgar Palacios.&nbsp\;<br />\n<br />\nAs a bilingual leader\, Laura was trained in board governance and has served as president and executive member of organizations such as: NSHMBA\, Young Latino Professionals\, Sister Cities of Kansas City. Laura was humbled to have been selected to be a Rockstar with Band of Angels in 2019 and Woman of the Year candidate for the Leukemia &amp\; Lymphoma Society in early 2013.</span><br />\n<br />\n<span style="font-size:16px\;"><span background-color:="" helvetica="" segoe="" style="color: rgb(21\, 27\, 38)\; font-family: -apple-system\, BlinkMacSystemFont\, " white-space:="">Interested in membership? <a href="http://centralexchange.org/become-a-member">More info here</a> </span></span><br />\n&nbsp\;
LOCATION:Central Exchange Downtown 1020 Central Street STE 100 Kansas City\, MO 64105 Parking Map
UID:e.9235.22664
SEQUENCE:3
DTSTAMP:20260420T091027Z
URL:https://members.centralexchange.org/events/details/dt-sprint-presents-women-to-watch-with-laura-alvarez-22664
END:VEVENT

END:VCALENDAR
