BEGIN:VCALENDAR
VERSION:2.0
PRODID:-//ChamberMaster//Event Calendar 2.0//EN
METHOD:PUBLISH
X-PUBLISHED-TTL:P3D
REFRESH-INTERVAL:P3D
CALSCALE:GREGORIAN
BEGIN:VEVENT
DTSTART:20191218T233000Z
DTEND:20191219T010000Z
X-MICROSOFT-CDO-ALLDAYEVENT:FALSE
SUMMARY:DT | WiSTEMM Holiday Party
DESCRIPTION:Join Central Exchange's WiSTEMM group for an evening of networking! Connect with inspiring women who are contributing to making a difference in the industry.
X-ALT-DESC;FMTTYPE=text/html:<span style="font-size:16px\;">Join Central Exchange&#39\;s WiSTEMM group for an evening of networking! Connect with inspiring women who are contributing to making a difference in the industry.</span>
LOCATION:Central Exchange Downtown 1020 Central Street STE 100 Kansas City\, MO 64105
UID:e.9235.23081
SEQUENCE:3
DTSTAMP:20260421T152728Z
URL:https://members.centralexchange.org/events/details/dt-wistemm-holiday-party-23081
END:VEVENT

END:VCALENDAR
