BEGIN:VCALENDAR
VERSION:2.0
PRODID:-//ChamberMaster//Event Calendar 2.0//EN
METHOD:PUBLISH
X-PUBLISHED-TTL:P3D
REFRESH-INTERVAL:P3D
CALSCALE:GREGORIAN
BEGIN:VEVENT
DTSTART:20191219T174500Z
DTEND:20191219T190000Z
X-MICROSOFT-CDO-ALLDAYEVENT:FALSE
SUMMARY:OFFSITE | SKILLPATH Curiosity: The Key to Creativity and Innovation
DESCRIPTION:According to the Harvard Business Review\, when a person's curiosity is triggered\, they think more deeply and rationally about decisions and come up with more-creative solutions. Clearly\, curiosity is the key to creativity! During this session attendees will learn about the benefits of curiosity in the workplace and the ways that employers can encourage this mindset to increase the bottom line. \n\n \n\n\nSkillPath is a leading international provider of professional development seminars\, conferences\, onsite training programs and e-learning opportunities for business professionals. SkillPath provides customized onsite training programs\, content and curriculum for thousands of companies\, including Fortune 500 firms\, government agencies\, medical centers and universities. SkillPath was launched in 1989 in Mission\, Kansas and is proud to have helped the careers of more than 10 million professionals worldwide.
X-ALT-DESC;FMTTYPE=text/html:<br />\n<span style="font-size:16px\;"><strong>According to the <a href="https://hbr.org/2018/09/curiosity">Harvard Business Review</a>\,&nbsp\;when a person&#39\;s curiosity is triggered\, they think more deeply and rationally about decisions and come up with more-creative solutions. </strong>Clearly\, curiosity is the key to creativity! During this session attendees will learn about the benefits of curiosity in the workplace and the ways that employers can encourage this mindset to increase the bottom line.&nbsp\;</span><br />\n&nbsp\;\n<hr /><br />\n<span style="font-size:16px\;"><strong>SkillPath</strong> is a leading international provider of professional development seminars\, conferences\, onsite training programs and e-learning opportunities for business professionals. SkillPath provides customized onsite training programs\, content and curriculum for thousands of companies\, including Fortune 500 firms\, government agencies\, medical centers and universities. SkillPath was launched in 1989 in Mission\, Kansas and is proud to have helped the careers of more than 10 million professionals worldwide.</span>
LOCATION:SkillPath Development Center 6900 Squibb Rd\, Mission\, KS 66202 Parking Map
UID:e.9235.22865
SEQUENCE:3
DTSTAMP:20260421T152626Z
URL:https://members.centralexchange.org/events/details/offsite-skillpath-curiosity-the-key-to-creativity-and-innovation-22865
END:VEVENT

END:VCALENDAR
