BEGIN:VCALENDAR
VERSION:2.0
PRODID:-//ChamberMaster//Event Calendar 2.0//EN
METHOD:PUBLISH
X-PUBLISHED-TTL:P3D
REFRESH-INTERVAL:P3D
CALSCALE:GREGORIAN
BEGIN:VEVENT
DTSTART:20211215T180000Z
DTEND:20211215T193000Z
X-MICROSOFT-CDO-ALLDAYEVENT:FALSE
SUMMARY:VIRTUAL CIRCLE | Entrepreneur's Resource Group
DESCRIPTION:Whether you are new to the business world\, or you're an experienced entrepreneur\, this group is for YOU. ERG is an "Explore It   Do It" group   We begin by exploring an action you can take to improve your business or entrepreneurial life. We will then take the time to DO what we discussed. If you've been seeking a way to make true progress in your entrepreneurial journey\, this group is for you. You are encouraged to attend each monthly session\, however if you can't\, don't let that keep you from attending what you can.
X-ALT-DESC;FMTTYPE=text/html:<span style="font-size:16px\;"><span style="color: rgb(0\, 0\, 0)\;">Whether you are new to the business world\, or you&rsquo\;re an experienced entrepreneur\, this group is for YOU. ERG is an &ldquo\;Explore It &ndash\; Do It&rdquo\; group &mdash\; We begin by exploring an action you can take to improve your business or entrepreneurial life. We will then take the time to DO what we discussed. If you&rsquo\;ve been seeking a way to make true progress in your entrepreneurial journey\, this group is for you. You are encouraged to attend each monthly session\, however if you can&rsquo\;t\, don&rsquo\;t let that keep you from attending what you can.</span></span>
LOCATION:Virtual Exchange Circle - access this program remotely from your computer\, tablet\, or smartphone + dial-in available
UID:e.9235.23616
SEQUENCE:3
DTSTAMP:20260421T152918Z
URL:https://members.centralexchange.org/events/details/virtual-circle-entrepreneur-s-resource-group-23616
END:VEVENT

END:VCALENDAR
