BEGIN:VCALENDAR
VERSION:2.0
PRODID:-//ChamberMaster//Event Calendar 2.0//EN
METHOD:PUBLISH
X-PUBLISHED-TTL:P3D
REFRESH-INTERVAL:P3D
CALSCALE:GREGORIAN
BEGIN:VEVENT
DTSTART:20210105T140000Z
DTEND:20210105T150000Z
X-MICROSOFT-CDO-ALLDAYEVENT:FALSE
SUMMARY:VIRTUAL CIRCLE | Mastermind Collective
DESCRIPTION:Looking for insights for your career\, organization or business?   \n	Searching for advice on developing a career path\, growing your business\, reaching a new target market\, managing personnel?\n	Do you have a block that is keeping you from moving forward?\n\nJoin us for our monthly small group masterminds\, where you'll be invited to share a business or personal challenge or opportunity\, in small groups of 4-5. Accountability buddies are available! Everyone is welcome and monthly attendance is encouraged but not required.
X-ALT-DESC;FMTTYPE=text/html:<ul>\n	<li style="margin-top:0in\;margin-right:0in\;margin-bottom:0in\;background:white\;"><span style="font-size:16px\;"><span style="color:black\;"><span style="font-family:arial\,sans-serif\;">Looking for insights for your career\, organization or business? &nbsp\;&nbsp\;</span></span></span></li>\n	<li style="margin-top:0in\;margin-right:0in\;margin-bottom:0in\;background:white\;"><span style="font-size:16px\;"><span style="color:black\;"><span style="font-family:arial\,sans-serif\;">Searching for advice on developing a career path\, growing your business\, reaching a new target market\, managing personnel?</span></span></span></li>\n	<li style="margin-top:0in\;margin-right:0in\;margin-bottom:0in\;background:white\;"><span style="font-size:16px\;"><span style="color:black\;"><span style="font-family:arial\,sans-serif\;">D</span></span><span style="color:black\;"><span style="font-family:arial\,sans-serif\;">o you have a block that is keeping you from moving forward?</span></span></span></li>\n</ul>\n<span style="font-size:16px\;"><span style="color:black\;"><span style="font-family:arial\,sans-serif\;">Join us for our monthly small group masterminds\, where you&#39\;ll be invited to share a business or personal challenge&nbsp\;</span></span><span style="color:black\;"><span style="font-family:arial\,sans-serif\;">or opportunity\, in small groups of 4-5</span></span><span style="color:black\;"><span style="font-family:arial\,sans-serif\;">. Accountability buddies are available! Everyone is welcome and monthly attendance is encouraged but not required.</span></span></span>
LOCATION:Virtual Exchange Circle - access this program remotely from your computer\, tablet\, or smartphone + dial-in available
UID:e.9235.23448
SEQUENCE:3
DTSTAMP:20260421T024735Z
URL:https://members.centralexchange.org/events/details/virtual-circle-mastermind-collective-01-05-2021-23448
END:VEVENT

END:VCALENDAR
