BEGIN:VCALENDAR
VERSION:2.0
PRODID:-//ChamberMaster//Event Calendar 2.0//EN
METHOD:PUBLISH
X-PUBLISHED-TTL:P3D
REFRESH-INTERVAL:P3D
CALSCALE:GREGORIAN
BEGIN:VEVENT
DTSTART:20220525T170000Z
DTEND:20220525T183000Z
X-MICROSOFT-CDO-ALLDAYEVENT:FALSE
SUMMARY:VIRTUAL CIRCLE | May Entrepreneurs Resource Group
DESCRIPTION:Whether you are new to the business world\, or you're an experienced entrepreneur\, this group is for YOU. Entrepreneurs Resource Group is an "Explore It - Do It" group. We begin by exploring an action you can take to improve your business or entrepreneurial life. We will then take the time to DO what we discussed. If you've been seeking a way to make true progress in your entrepreneurial journey\, this group is for you. You are encouraged to attend every 4th Wednesday of the month\, however if you can't\, don't let that keep you from attending when you can.
X-ALT-DESC;FMTTYPE=text/html:<p><br />\n<span style="font-size:16px\;"><span style="font-family:arial\;">Whether you are new to the business world\, or you&#39\;re an experienced entrepreneur\, this group is for YOU. Entrepreneurs Resource Group is an &quot\;Explore It - Do It&quot\; group.&nbsp\;We begin by exploring an action you can take to improve your business or entrepreneurial life. We will then take the time to DO what we discussed. If you&#39\;ve been seeking a way to make true progress in your entrepreneurial journey\, this group is for you. You are encouraged to attend every 4th Wednesday of the month\, however if you can&#39\;t\, don&#39\;t let that keep you from attending when you can.</span></span></p>\n
LOCATION:Virtual via Zoom - access this program remotely from your computer\, tablet\, or smartphone + dial-in available. QUESTIONS ABOUT ENTREPRENEURS RESOURCE GROUP? CONTACT: Carrie Taylor
UID:e.9235.24484
SEQUENCE:3
DTSTAMP:20260420T150104Z
URL:https://members.centralexchange.org/events/details/virtual-circle-may-entrepreneurs-resource-group-24484
END:VEVENT

END:VCALENDAR
