BEGIN:VCALENDAR
VERSION:2.0
PRODID:-//ChamberMaster//Event Calendar 2.0//EN
METHOD:PUBLISH
X-PUBLISHED-TTL:P3D
REFRESH-INTERVAL:P3D
CALSCALE:GREGORIAN
BEGIN:VEVENT
DTSTART:20200519T130000Z
DTEND:20200519T143000Z
X-MICROSOFT-CDO-ALLDAYEVENT:FALSE
SUMMARY:VIRTUAL CIRCLE | Trends in Marketing
DESCRIPTION:There are many things to consider when marketing your business\, either as a solopreneur/entrepreneur\, or established business. Are you in an effective marketing grove\, or does your head spin when you hear the following:\n\n \n\n	      Content marketing\n	      Social media marketing\n	      Mobile advertising\n	      Conversion rates\n	      Email open rates\n	      Pay-per click\n	      Affiliate marketing?\n	      AND MORE!\n\n  \n\nYIKES! How do you know where to start and what is best for YOUR business?\n\n \n\nJoin us the third Tuesday of each month as we offer presentations from subject matter experts\, and meaningful round-table conversations on what is working best for each of us. Conversations will be open and confidential. Each monthly meeting will be facilitated by Christa Hines and Robyn Stevens.\n\n\n\nExchange Circles are the place to dive into even deeper community at Central Exchange. These discussion-based meetups gather members and guests at the same date/time each month. These consistent meetups allow you to make strong CX connections and grow your network.
X-ALT-DESC;FMTTYPE=text/html:<br />\n<span style="font-size:16px\;"><span style="color: rgb(51\, 51\, 51)\; font-family: sans-serif\, Arial\, Verdana\, " trebuchet=""><strong>There are many things to consider when marketing your business\, either as a&nbsp\;solopreneur/entrepreneur\, or established business.</strong> Are you in an effective marketing grove\, or does your head spin when you hear the following:<br />\n&nbsp\;</span></span>\n<ul style="padding: 0px 40px\; color: rgb(51\, 51\, 51)\; font-family: sans-serif\, Arial\, Verdana\, " trebuchet="">\n	<li><span style="font-size:16px\;">&nbsp\;&nbsp\;&nbsp\;&nbsp\;&nbsp\; Content marketing</span></li>\n	<li><span style="font-size:16px\;">&nbsp\;&nbsp\;&nbsp\;&nbsp\;&nbsp\; Social media marketing</span></li>\n	<li><span style="font-size:16px\;">&nbsp\;&nbsp\;&nbsp\;&nbsp\;&nbsp\; Mobile advertising</span></li>\n	<li><span style="font-size:16px\;">&nbsp\;&nbsp\;&nbsp\;&nbsp\;&nbsp\; Conversion rates</span></li>\n	<li><span style="font-size:16px\;">&nbsp\;&nbsp\;&nbsp\;&nbsp\;&nbsp\; Email open rates</span></li>\n	<li><span style="font-size:16px\;">&nbsp\;&nbsp\;&nbsp\;&nbsp\;&nbsp\; Pay-per click</span></li>\n	<li><span style="font-size:16px\;">&nbsp\;&nbsp\;&nbsp\;&nbsp\;&nbsp\; Affiliate marketing?</span></li>\n	<li><span style="font-size:16px\;">&nbsp\;&nbsp\;&nbsp\;&nbsp\;&nbsp\; AND MORE!</span></li>\n</ul>\n<span style="font-size:16px\;"> <span style="color: rgb(51\, 51\, 51)\; font-family: sans-serif\, Arial\, Verdana\, " trebuchet="">&nbsp\;<br />\nYIKES! How do you know where to start and what is best for YOUR business?<br />\n&nbsp\;<br />\nJoin us the third Tuesday of each month as we offer presentations from subject matter experts\, and meaningful round-table conversations on what is working best for each of us. Conversations will be open and confidential. Each monthly meeting will be facilitated by Christa Hines and Robyn Stevens.</span></span><br />\n<br />\n<span style="font-size: 12px\;">Exchange Circles are the place to dive into even deeper community at Central Exchange. These discussion-based meetups gather members and guests at the same date/time each month. These consistent meetups allow you to make strong CX connections and grow your network.</span>
LOCATION:Virtual program - access this program remotely from your computer\, tablet\, or smartphone + dial-in available.
UID:e.9235.23065
SEQUENCE:3
DTSTAMP:20260419T130508Z
URL:https://members.centralexchange.org/events/details/virtual-circle-trends-in-marketing-05-19-2020-23065
END:VEVENT

END:VCALENDAR
