BEGIN:VCALENDAR
VERSION:2.0
PRODID:-//ChamberMaster//Event Calendar 2.0//EN
METHOD:PUBLISH
X-PUBLISHED-TTL:P3D
REFRESH-INTERVAL:P3D
CALSCALE:GREGORIAN
BEGIN:VEVENT
DTSTART:20191204T180000Z
DTEND:20191204T190000Z
X-MICROSOFT-CDO-ALLDAYEVENT:FALSE
SUMMARY:virtualCX | Making Decisions Strategically & Critically with SkillPath
DESCRIPTION:This is a virtualCX Program that can be accessed remotely from your desk. You will receive the event passcode in your confirmation email when you register.\n\n\n\nAccording to Psychology Today\, the average person makes about 35\,000 decisions each day. Although no decision is perfect\, there are ways to minimize undesirable results through critical and strategic thinking. Join us in partnership with SkillPath as we learn about the decision making process\, and leave with the tools necessary to make positive and well-rounded choices in our everyday lives. \n\n \n\n\nSkillPath is a leading international provider of professional development seminars\, conferences\, onsite training programs and e-learning opportunities for business professionals. SkillPath provides customized onsite training programs\, content and curriculum for thousands of companies\, including Fortune 500 firms\, government agencies\, medical centers and universities. SkillPath was launched in 1989 in Mission\, Kansas and is proud to have helped the careers of more than 10 million professionals worldwide.
X-ALT-DESC;FMTTYPE=text/html:<br />\n<span style="font-size:16px\;"><strong>This is a virtualCX Program that can be accessed remotely from your desk.</strong> You will receive the event passcode in your confirmation email when you register.</span><br />\n<br />\n<strong style="color: rgb(51\, 51\, 51)\; font-family: sans-serif\, Arial\, Verdana\, &quot\;Trebuchet MS&quot\;\; font-size: 16px\;">According to&nbsp\;<a href="https://www.psychologytoday.com/us/blog/stretching-theory/201809/how-many-decisions-do-we-make-each-day" style="color: rgb(7\, 130\, 193)\;">Psychology Today</a>\, the average person makes about 35\,000 decisions each day. Although no decision is perfect\, there are ways to minimize undesirable results through critical and strategic thinking. Join us in partnership with SkillPath as we learn about the decision making process\, and leave with the tools necessary to make positive and well-rounded choices in our everyday lives.&nbsp\;</strong><br style="color: rgb(51\, 51\, 51)\; font-family: sans-serif\, Arial\, Verdana\, &quot\;Trebuchet MS&quot\;\; font-size: 13px\;" />\n&nbsp\;\n<hr style="border-right: 0px\; border-bottom: 0px\; border-left: 0px\; border-image: initial\; border-top-style: solid\; border-top-color: rgb(204\, 204\, 204)\; color: rgb(51\, 51\, 51)\; font-family: sans-serif\, Arial\, Verdana\, &quot\;Trebuchet MS&quot\;\; font-size: 13px\;" /><br style="color: rgb(51\, 51\, 51)\; font-family: sans-serif\, Arial\, Verdana\, &quot\;Trebuchet MS&quot\;\; font-size: 13px\;" />\n<span style="color: rgb(51\, 51\, 51)\; font-family: sans-serif\, Arial\, Verdana\, &quot\;Trebuchet MS&quot\;\; font-size: 16px\;"><strong>SkillPath</strong>&nbsp\;is a leading international provider of professional development seminars\, conferences\, onsite training programs and e-learning opportunities for business professionals. SkillPath provides customized onsite training programs\, content and curriculum for thousands of companies\, including Fortune 500 firms\, government agencies\, medical centers and universities. SkillPath was launched in 1989 in Mission\, Kansas and is proud to have helped the careers of more than 10 million professionals worldwide.</span>
LOCATION:Virtual! Access this program remotely from your computer\, tablet or smartphone. Would you like to join us for lunch instead?
UID:e.9235.22879
SEQUENCE:3
DTSTAMP:20260421T152241Z
URL:https://members.centralexchange.org/events/details/virtualcx-making-decisions-strategically-critically-with-skillpath-22879
END:VEVENT

END:VCALENDAR
